BEGIN:VCALENDAR
VERSION:2.0
PRODID:-//jEvents 2.0 for Joomla//EN
CALSCALE:GREGORIAN
METHOD:PUBLISH
BEGIN:VEVENT
UID:676b4543fe3680bfcdaf4032a69cdb56
CATEGORIES:JF Kandern
CREATED:20260124T194332
SUMMARY:Übung Gruppe 1
DESCRIPTION:
DTSTAMP:20260420T110457
DTSTART:20261123T173000
SEQUENCE:0
TRANSP:OPAQUE
END:VEVENT
END:VCALENDAR