BEGIN:VCALENDAR
VERSION:2.0
PRODID:-//jEvents 2.0 for Joomla//EN
CALSCALE:GREGORIAN
METHOD:PUBLISH
BEGIN:VEVENT
UID:8128623c2fb4d91a34067fe77a1a351d
CATEGORIES:JF Kandern
CREATED:20260124T194113
SUMMARY:Übung Gruppe 1
DESCRIPTION:
DTSTAMP:20260420T124741
DTSTART:20260921T163000
SEQUENCE:0
TRANSP:OPAQUE
END:VEVENT
END:VCALENDAR