BEGIN:VCALENDAR
VERSION:2.0
PRODID:-//jEvents 2.0 for Joomla//EN
CALSCALE:GREGORIAN
METHOD:PUBLISH
BEGIN:VEVENT
UID:1a6cb2022ad29339f88c148d09c89797
CATEGORIES:JF Kandern
CREATED:20260124T193944
SUMMARY:Übung Gruppe 2
DESCRIPTION:
DTSTAMP:20260420T135821
DTSTART:20260727T163000
SEQUENCE:0
TRANSP:OPAQUE
END:VEVENT
END:VCALENDAR