BEGIN:VCALENDAR
VERSION:2.0
PRODID:-//jEvents 2.0 for Joomla//EN
CALSCALE:GREGORIAN
METHOD:PUBLISH
BEGIN:VEVENT
UID:0c258f201fc0734914255a364ed05a56
CATEGORIES:Abt. Holzen
CREATED:20251214T110329
SUMMARY:Sauschießen
DESCRIPTION:
DTSTAMP:20260420T202012
DTSTART;VALUE=DATE:20261017
DTEND;VALUE=DATE:20261018
SEQUENCE:0
TRANSP:OPAQUE
END:VEVENT
END:VCALENDAR