BEGIN:VCALENDAR
VERSION:2.0
PRODID:-//jEvents 2.0 for Joomla//EN
CALSCALE:GREGORIAN
METHOD:PUBLISH
BEGIN:VEVENT
UID:923b71d708b99f17fbda88c7f809458e
CATEGORIES:Abt. Holzen
CREATED:20251214T110141
SUMMARY:Übung
DESCRIPTION:
DTSTAMP:20260420T182838
DTSTART;VALUE=DATE:20261008
DTEND;VALUE=DATE:20261009
SEQUENCE:0
TRANSP:OPAQUE
END:VEVENT
END:VCALENDAR