BEGIN:VCALENDAR
VERSION:2.0
PRODID:-//jEvents 2.0 for Joomla//EN
CALSCALE:GREGORIAN
METHOD:PUBLISH
BEGIN:VEVENT
UID:f0d5d5ba0115c2f3914f94187bf538b9
CATEGORIES:Abt. Stadt
CREATED:20250104T121526
SUMMARY:Übung mit Altersabteilung
DESCRIPTION:
DTSTAMP:20260420T080941
DTSTART:20250226T180000
SEQUENCE:0
TRANSP:OPAQUE
END:VEVENT
END:VCALENDAR