BEGIN:VCALENDAR
VERSION:2.0
PRODID:-//jEvents 2.0 for Joomla//EN
CALSCALE:GREGORIAN
METHOD:PUBLISH
BEGIN:VEVENT
UID:c0d11014b2628455c282b663c4a9ccae
CATEGORIES:Ersthelfer
CREATED:20250104T120633
SUMMARY:Übung
DESCRIPTION:
DTSTAMP:20260420T181906
DTSTART:20251029T180000
SEQUENCE:0
TRANSP:OPAQUE
END:VEVENT
END:VCALENDAR