BEGIN:VCALENDAR
VERSION:2.0
PRODID:-//jEvents 2.0 for Joomla//EN
CALSCALE:GREGORIAN
METHOD:PUBLISH
BEGIN:VEVENT
UID:781d44a126017acf726b65d5b6c22eb5
CATEGORIES:Abt. Wollbach
CREATED:20260215T092532
SUMMARY:Kartenspieleabend
DESCRIPTION:
DTSTAMP:20260420T183949
DTSTART;VALUE=DATE:20261228
DTEND;VALUE=DATE:20261229
SEQUENCE:0
TRANSP:OPAQUE
END:VEVENT
END:VCALENDAR