BEGIN:VCALENDAR
VERSION:2.0
PRODID:-//jEvents 2.0 for Joomla//EN
CALSCALE:GREGORIAN
METHOD:PUBLISH
BEGIN:VEVENT
UID:9a0d89a0835fc4b2b876caca06d97e7e
CATEGORIES:Abt. Wollbach
CREATED:20260215T092512
SUMMARY:Übung
DESCRIPTION:
DTSTAMP:20260420T091840
DTSTART:20261208T190000
SEQUENCE:0
TRANSP:OPAQUE
END:VEVENT
END:VCALENDAR