BEGIN:VCALENDAR
VERSION:2.0
PRODID:-//jEvents 2.0 for Joomla//EN
CALSCALE:GREGORIAN
METHOD:PUBLISH
BEGIN:VEVENT
UID:3c0eef16611eb1d6e33324d5529b3087
CATEGORIES:Abt. Wollbach
CREATED:20260215T092450
SUMMARY:Herbstübung mit JF und DRK Wollbach
DESCRIPTION:
DTSTAMP:20260420T113317
DTSTART:20261108T090000
SEQUENCE:0
TRANSP:OPAQUE
END:VEVENT
END:VCALENDAR