BEGIN:VCALENDAR
VERSION:2.0
PRODID:-//jEvents 2.0 for Joomla//EN
CALSCALE:GREGORIAN
METHOD:PUBLISH
BEGIN:VEVENT
UID:1e1b6ee35e7740716ee8ce0cc23318d4
CATEGORIES:Abt. Wollbach
CREATED:20260215T092427
SUMMARY:Übung Gruppe 2
DESCRIPTION:
DTSTAMP:20260420T171838
DTSTART;VALUE=DATE:20261027
DTEND;VALUE=DATE:20261028
SEQUENCE:0
TRANSP:OPAQUE
END:VEVENT
END:VCALENDAR