BEGIN:VCALENDAR
VERSION:2.0
PRODID:-//jEvents 2.0 for Joomla//EN
CALSCALE:GREGORIAN
METHOD:PUBLISH
BEGIN:VEVENT
UID:089d586eb1edef993c849a7f661ca4ef
CATEGORIES:Abt. Wollbach
CREATED:20260215T092318
SUMMARY:Übung
DESCRIPTION:
DTSTAMP:20260420T134030
DTSTART:20260908T180000
SEQUENCE:0
TRANSP:OPAQUE
END:VEVENT
END:VCALENDAR