BEGIN:VCALENDAR
VERSION:2.0
PRODID:-//jEvents 2.0 for Joomla//EN
CALSCALE:GREGORIAN
METHOD:PUBLISH
BEGIN:VEVENT
UID:90abd5abe038af9968f0a4d9bdcd2f47
CATEGORIES:Abt. Wollbach
CREATED:20260215T092246
SUMMARY:Strüblifest
DESCRIPTION:
DTSTAMP:20260422T192620
DTSTART;VALUE=DATE:20260816
DTEND;VALUE=DATE:20260817
SEQUENCE:0
TRANSP:OPAQUE
END:VEVENT
END:VCALENDAR