BEGIN:VCALENDAR
VERSION:2.0
PRODID:-//jEvents 2.0 for Joomla//EN
CALSCALE:GREGORIAN
METHOD:PUBLISH
BEGIN:VEVENT
UID:596fcee3d13bafd3dc5d74bf85ee1735
CATEGORIES:Abt. Wollbach
CREATED:20260215T092141
SUMMARY:Übung
DESCRIPTION:
DTSTAMP:20260422T110423
DTSTART:20260811T180000
SEQUENCE:0
TRANSP:OPAQUE
END:VEVENT
END:VCALENDAR