BEGIN:VCALENDAR
VERSION:2.0
PRODID:-//jEvents 2.0 for Joomla//EN
CALSCALE:GREGORIAN
METHOD:PUBLISH
BEGIN:VEVENT
UID:fdd6e1be5f63316d2ce4d48f8bdf7af4
CATEGORIES:Abt. Wollbach
CREATED:20260215T092110
SUMMARY:Jubiläum 100 Jahre FF Schallbach
DESCRIPTION:
DTSTAMP:20260420T131412
DTSTART;VALUE=DATE:20260718
DTEND;VALUE=DATE:20260720
SEQUENCE:0
TRANSP:OPAQUE
END:VEVENT
END:VCALENDAR