BEGIN:VCALENDAR
VERSION:2.0
PRODID:-//jEvents 2.0 for Joomla//EN
CALSCALE:GREGORIAN
METHOD:PUBLISH
BEGIN:VEVENT
UID:46a28e2f20b57355fe60f07017321745
CATEGORIES:Abt. Wollbach
CREATED:20260215T091842
SUMMARY:Übung mit FF Wittlingen
DESCRIPTION:
DTSTAMP:20260420T080139
DTSTART:20260609T180000
SEQUENCE:0
TRANSP:OPAQUE
END:VEVENT
END:VCALENDAR