BEGIN:VCALENDAR
VERSION:2.0
PRODID:-//jEvents 2.0 for Joomla//EN
CALSCALE:GREGORIAN
METHOD:PUBLISH
BEGIN:VEVENT
UID:95d3af1ddc3cf984f7b51feacc34b8ab
CATEGORIES:Abt. Wollbach
CREATED:20260215T091757
SUMMARY:Übung
DESCRIPTION:
DTSTAMP:20260420T163946
DTSTART:20260512T180000
SEQUENCE:0
TRANSP:OPAQUE
END:VEVENT
END:VCALENDAR