BEGIN:VCALENDAR
VERSION:2.0
PRODID:-//jEvents 2.0 for Joomla//EN
CALSCALE:GREGORIAN
METHOD:PUBLISH
BEGIN:VEVENT
UID:103454b3fef612c53827aeeb6e21f248
CATEGORIES:Abt. Wollbach
CREATED:20260215T091740
SUMMARY:Maschinistenübung
DESCRIPTION:
DTSTAMP:20260420T080056
DTSTART:20260428T180000
SEQUENCE:0
TRANSP:OPAQUE
END:VEVENT
END:VCALENDAR