BEGIN:VCALENDAR
VERSION:2.0
PRODID:-//jEvents 2.0 for Joomla//EN
CALSCALE:GREGORIAN
METHOD:PUBLISH
BEGIN:VEVENT
UID:7717ba4a689f0e13d6065248ed848d0a
CATEGORIES:Abt. Wollbach
CREATED:20260215T091635
SUMMARY:Übung
DESCRIPTION:
DTSTAMP:20260420T151548
DTSTART:20260310T190000
SEQUENCE:0
TRANSP:OPAQUE
END:VEVENT
END:VCALENDAR