BEGIN:VCALENDAR
VERSION:2.0
PRODID:-//jEvents 2.0 for Joomla//EN
CALSCALE:GREGORIAN
METHOD:PUBLISH
BEGIN:VEVENT
UID:df88de80ce636dea2b37ce46c2929eed
CATEGORIES:Abt. Wollbach
CREATED:20260215T091608
SUMMARY:Atemschutzübung
DESCRIPTION:
DTSTAMP:20260422T094808
DTSTART:20260224T190000
SEQUENCE:0
TRANSP:OPAQUE
END:VEVENT
END:VCALENDAR