BEGIN:VCALENDAR
VERSION:2.0
PRODID:-//jEvents 2.0 for Joomla//EN
CALSCALE:GREGORIAN
METHOD:PUBLISH
BEGIN:VEVENT
UID:676b4543fe3680bfcdaf4032a69cdb56
CATEGORIES:JF Kandern
CREATED:19700101T010000
SUMMARY:Übung Gruppe 1
DESCRIPTION:
DTSTAMP:20260420T111532
DTSTART:20261109T173000
SEQUENCE:0
RRULE:FREQ=WEEKLY;UNTIL=20261208T000000Z;INTERVAL=2;BYDAY=MO
TRANSP:OPAQUE
END:VEVENT
END:VCALENDAR