BEGIN:VCALENDAR
VERSION:2.0
PRODID:-//jEvents 2.0 for Joomla//EN
CALSCALE:GREGORIAN
METHOD:PUBLISH
BEGIN:VEVENT
UID:275992c1de558a49e938c5478cce8e16
CATEGORIES:JF Kandern
CREATED:20260124T194210
SUMMARY:Übung Gruppe 2
DESCRIPTION:
DTSTAMP:20260422T152031
DTSTART:20261012T163000
SEQUENCE:0
TRANSP:OPAQUE
END:VEVENT
END:VCALENDAR