BEGIN:VCALENDAR
VERSION:2.0
PRODID:-//jEvents 2.0 for Joomla//EN
CALSCALE:GREGORIAN
METHOD:PUBLISH
BEGIN:VEVENT
UID:3883890ad75ab54795cbb3d4f3214465
CATEGORIES:JF Kandern
CREATED:20260124T194017
SUMMARY:Kreiszeltlager in Efringen-Kirchen
DESCRIPTION:
DTSTAMP:20260420T114903
DTSTART;VALUE=DATE:20260729
DTEND;VALUE=DATE:20260803
SEQUENCE:0
TRANSP:OPAQUE
END:VEVENT
END:VCALENDAR