BEGIN:VCALENDAR
VERSION:2.0
PRODID:-//jEvents 2.0 for Joomla//EN
CALSCALE:GREGORIAN
METHOD:PUBLISH
BEGIN:VEVENT
UID:1a6cb2022ad29339f88c148d09c89797
CATEGORIES:JF Kandern
CREATED:19700101T010000
SUMMARY:Übung Gruppe 2
DESCRIPTION:
DTSTAMP:20260420T151151
DTSTART:20260713T163000
SEQUENCE:0
RRULE:FREQ=WEEKLY;UNTIL=20260728T000000Z;INTERVAL=2;BYDAY=MO
TRANSP:OPAQUE
END:VEVENT
END:VCALENDAR