BEGIN:VCALENDAR
VERSION:2.0
PRODID:-//jEvents 2.0 for Joomla//EN
CALSCALE:GREGORIAN
METHOD:PUBLISH
BEGIN:VEVENT
UID:2470a1aac22c3f07b9c2d0c9c98dde15
CATEGORIES:JF Kandern
CREATED:20260124T193831
SUMMARY:Übung Gruppe 2
DESCRIPTION:
DTSTAMP:20260420T080953
DTSTART:20260615T163000
SEQUENCE:0
TRANSP:OPAQUE
END:VEVENT
END:VCALENDAR