BEGIN:VCALENDAR
VERSION:2.0
PRODID:-//jEvents 2.0 for Joomla//EN
CALSCALE:GREGORIAN
METHOD:PUBLISH
BEGIN:VEVENT
UID:3698886320c86f06210a7b8d85f3004d
CATEGORIES:JF Kandern
CREATED:20260124T193437
SUMMARY:Übung Gruppe 1+2
DESCRIPTION:
DTSTAMP:20260420T105350
DTSTART:20260323T173000
SEQUENCE:0
TRANSP:OPAQUE
END:VEVENT
END:VCALENDAR