BEGIN:VCALENDAR
VERSION:2.0
PRODID:-//jEvents 2.0 for Joomla//EN
CALSCALE:GREGORIAN
METHOD:PUBLISH
BEGIN:VEVENT
UID:1b60dca5929b78aef86b5ce0b116cab5
CATEGORIES:JF Kandern
CREATED:20260124T193223
SUMMARY:Übung Gruppe 2
DESCRIPTION:
DTSTAMP:20260422T121251
DTSTART:20260223T173000
SEQUENCE:0
TRANSP:OPAQUE
END:VEVENT
END:VCALENDAR