BEGIN:VCALENDAR
VERSION:2.0
PRODID:-//jEvents 2.0 for Joomla//EN
CALSCALE:GREGORIAN
METHOD:PUBLISH
BEGIN:VEVENT
UID:7a1fa7045ac079d4fea06a702a933a04
CATEGORIES:JF Kandern
CREATED:20260124T193128
SUMMARY:Übung Gruppe 2
DESCRIPTION:
DTSTAMP:20260420T151324
DTSTART:20260202T173000
SEQUENCE:0
TRANSP:OPAQUE
END:VEVENT
END:VCALENDAR