BEGIN:VCALENDAR
VERSION:2.0
PRODID:-//jEvents 2.0 for Joomla//EN
CALSCALE:GREGORIAN
METHOD:PUBLISH
BEGIN:VEVENT
UID:e0b7e8c7e26ab528edc18f48ee08219a
CATEGORIES:JF Kandern
CREATED:20260124T193105
SUMMARY:Übung Gruppe 2
DESCRIPTION:
DTSTAMP:20260420T151719
DTSTART:20260119T173000
SEQUENCE:0
TRANSP:OPAQUE
END:VEVENT
END:VCALENDAR