BEGIN:VCALENDAR
VERSION:2.0
PRODID:-//jEvents 2.0 for Joomla//EN
CALSCALE:GREGORIAN
METHOD:PUBLISH
BEGIN:VEVENT
UID:bccf83adfb28fbccc409555be02a62ab
CATEGORIES:Abt. Stadt
CREATED:20260115T193451
SUMMARY:Ausschusssitzung Abt. Stadt
DESCRIPTION:
DTSTAMP:20260422T143451
DTSTART;VALUE=DATE:20261120
DTEND;VALUE=DATE:20261121
SEQUENCE:0
TRANSP:OPAQUE
END:VEVENT
END:VCALENDAR