BEGIN:VCALENDAR
VERSION:2.0
PRODID:-//jEvents 2.0 for Joomla//EN
CALSCALE:GREGORIAN
METHOD:PUBLISH
BEGIN:VEVENT
UID:ac137a5bcdcbd3110640cb89665e4fff
CATEGORIES:Abt. Stadt
CREATED:20260115T193312
SUMMARY:Herbsthock
DESCRIPTION:
DTSTAMP:20260420T201432
DTSTART;VALUE=DATE:20261018
DTEND;VALUE=DATE:20261019
SEQUENCE:0
TRANSP:OPAQUE
END:VEVENT
END:VCALENDAR