BEGIN:VCALENDAR
VERSION:2.0
PRODID:-//jEvents 2.0 for Joomla//EN
CALSCALE:GREGORIAN
METHOD:PUBLISH
BEGIN:VEVENT
UID:dec355b29fb1072782f390e8e0138f4f
CATEGORIES:Abt. Stadt
CREATED:20260115T193233
SUMMARY:Richten Herbsthock
DESCRIPTION:
DTSTAMP:20260422T123436
DTSTART:20261014T170000
SEQUENCE:0
TRANSP:OPAQUE
END:VEVENT
END:VCALENDAR