BEGIN:VCALENDAR
VERSION:2.0
PRODID:-//jEvents 2.0 for Joomla//EN
CALSCALE:GREGORIAN
METHOD:PUBLISH
BEGIN:VEVENT
UID:30a713942ae6ef6566356fb96eeb74ce
CATEGORIES:Abt. Stadt
CREATED:20260115T193151
SUMMARY:Ausflug
DESCRIPTION:
DTSTAMP:20260420T144751
DTSTART;VALUE=DATE:20260926
DTEND;VALUE=DATE:20260928
SEQUENCE:0
TRANSP:OPAQUE
END:VEVENT
END:VCALENDAR