BEGIN:VCALENDAR
VERSION:2.0
PRODID:-//jEvents 2.0 for Joomla//EN
CALSCALE:GREGORIAN
METHOD:PUBLISH
BEGIN:VEVENT
UID:04d49e56f969df83b7b8d61abd5dd2eb
CATEGORIES:Gesamtwehr
CREATED:20260115T192744
SUMMARY:Seminar E-Mobilität
DESCRIPTION:
DTSTAMP:20260422T142830
DTSTART;VALUE=DATE:20260916
DTEND;VALUE=DATE:20260919
SEQUENCE:0
TRANSP:OPAQUE
END:VEVENT
END:VCALENDAR