BEGIN:VCALENDAR
VERSION:2.0
PRODID:-//jEvents 2.0 for Joomla//EN
CALSCALE:GREGORIAN
METHOD:PUBLISH
BEGIN:VEVENT
UID:303a39cb0a24c2821169ffc5eaf4a456
CATEGORIES:Abt. Stadt
CREATED:20260115T192711
SUMMARY:Maschinistenübung
DESCRIPTION:
DTSTAMP:20260422T123456
DTSTART:20260819T170000
SEQUENCE:0
TRANSP:OPAQUE
END:VEVENT
END:VCALENDAR