BEGIN:VCALENDAR
VERSION:2.0
PRODID:-//jEvents 2.0 for Joomla//EN
CALSCALE:GREGORIAN
METHOD:PUBLISH
BEGIN:VEVENT
UID:747ee39938b7a4f965b732678a96bd33
CATEGORIES:Abt. Stadt
CREATED:20260115T192656
SUMMARY:Maschinistenübung
DESCRIPTION:
DTSTAMP:20260420T105707
DTSTART:20260722T170000
SEQUENCE:0
TRANSP:OPAQUE
END:VEVENT
END:VCALENDAR