BEGIN:VCALENDAR
VERSION:2.0
PRODID:-//jEvents 2.0 for Joomla//EN
CALSCALE:GREGORIAN
METHOD:PUBLISH
BEGIN:VEVENT
UID:8e1cffcf0fb09da3cf69db40a2790541
CATEGORIES:Abt. Stadt
CREATED:20260115T192509
SUMMARY:Maschinistenübung
DESCRIPTION:
DTSTAMP:20260420T082123
DTSTART:20260527T170000
SEQUENCE:0
TRANSP:OPAQUE
END:VEVENT
END:VCALENDAR