BEGIN:VCALENDAR
VERSION:2.0
PRODID:-//jEvents 2.0 for Joomla//EN
CALSCALE:GREGORIAN
METHOD:PUBLISH
BEGIN:VEVENT
UID:944286362e13d163a411da7793daaf11
CATEGORIES:Gesamtwehr
CREATED:20260115T192449
SUMMARY:Belastungsübung in Schopfheim
DESCRIPTION:
DTSTAMP:20260422T172725
DTSTART;VALUE=DATE:20260512
DTEND;VALUE=DATE:20260513
SEQUENCE:0
TRANSP:OPAQUE
END:VEVENT
END:VCALENDAR