BEGIN:VCALENDAR
VERSION:2.0
PRODID:-//jEvents 2.0 for Joomla//EN
CALSCALE:GREGORIAN
METHOD:PUBLISH
BEGIN:VEVENT
UID:9f31ff5eca6db88505fea1f82991b514
CATEGORIES:Gesamtwehr
CREATED:20260115T192424
SUMMARY:Belastungsübung in Schopfheim
DESCRIPTION:
DTSTAMP:20260420T092513
DTSTART:20260421T170000
SEQUENCE:0
TRANSP:OPAQUE
END:VEVENT
END:VCALENDAR