BEGIN:VCALENDAR
VERSION:2.0
PRODID:-//jEvents 2.0 for Joomla//EN
CALSCALE:GREGORIAN
METHOD:PUBLISH
BEGIN:VEVENT
UID:9f38645723e6008a4d1f69f651bae1d7
CATEGORIES:Abt. Stadt
CREATED:20260115T192100
SUMMARY:Ausschusssitzung Abt. Stadt
DESCRIPTION:
DTSTAMP:20260422T152626
DTSTART:20260313T180000
SEQUENCE:0
TRANSP:OPAQUE
END:VEVENT
END:VCALENDAR