BEGIN:VCALENDAR
VERSION:2.0
PRODID:-//jEvents 2.0 for Joomla//EN
CALSCALE:GREGORIAN
METHOD:PUBLISH
BEGIN:VEVENT
UID:0f05eab8e44f7e174b68d1b4b061a474
CATEGORIES:Abt. Riedlingen
CREATED:20260111T191233
SUMMARY:Übung
DESCRIPTION:
DTSTAMP:20260420T092111
DTSTART:20261203T180000
SEQUENCE:0
TRANSP:OPAQUE
END:VEVENT
END:VCALENDAR