BEGIN:VCALENDAR
VERSION:2.0
PRODID:-//jEvents 2.0 for Joomla//EN
CALSCALE:GREGORIAN
METHOD:PUBLISH
BEGIN:VEVENT
UID:2b2f8a23ceb29ad7f42f18833c201f6e
CATEGORIES:Abt. Riedlingen
CREATED:20260111T191217
SUMMARY:Papierannahme
DESCRIPTION:
DTSTAMP:20260420T112541
DTSTART;VALUE=DATE:20261107
DTEND;VALUE=DATE:20261108
SEQUENCE:0
TRANSP:OPAQUE
END:VEVENT
END:VCALENDAR