BEGIN:VCALENDAR
VERSION:2.0
PRODID:-//jEvents 2.0 for Joomla//EN
CALSCALE:GREGORIAN
METHOD:PUBLISH
BEGIN:VEVENT
UID:27a826472f380a7cc857354e6cd7c13f
CATEGORIES:Abt. Riedlingen
CREATED:20260111T191201
SUMMARY:Übung
DESCRIPTION:
DTSTAMP:20260420T081002
DTSTART:20261105T180000
SEQUENCE:0
TRANSP:OPAQUE
END:VEVENT
END:VCALENDAR