BEGIN:VCALENDAR
VERSION:2.0
PRODID:-//jEvents 2.0 for Joomla//EN
CALSCALE:GREGORIAN
METHOD:PUBLISH
BEGIN:VEVENT
UID:9576e64b7c756f9c73c21705fac4c8ec
CATEGORIES:Abt. Riedlingen
CREATED:20260111T191149
SUMMARY:Bayrischer Frühschoppen
DESCRIPTION:
DTSTAMP:20260422T144558
DTSTART;VALUE=DATE:20261018
DTEND;VALUE=DATE:20261019
SEQUENCE:0
TRANSP:OPAQUE
END:VEVENT
END:VCALENDAR