BEGIN:VCALENDAR
VERSION:2.0
PRODID:-//jEvents 2.0 for Joomla//EN
CALSCALE:GREGORIAN
METHOD:PUBLISH
BEGIN:VEVENT
UID:a2f6e3d1036867e9643af6ca107d7e8f
CATEGORIES:Abt. Riedlingen
CREATED:20260111T191121
SUMMARY:Atemschutz
DESCRIPTION:
DTSTAMP:20260420T181413
DTSTART:20261008T150000
SEQUENCE:0
TRANSP:OPAQUE
END:VEVENT
END:VCALENDAR