BEGIN:VCALENDAR
VERSION:2.0
PRODID:-//jEvents 2.0 for Joomla//EN
CALSCALE:GREGORIAN
METHOD:PUBLISH
BEGIN:VEVENT
UID:4bee915125beadf345b954c306f35866
CATEGORIES:Abt. Riedlingen
CREATED:20260111T191050
SUMMARY:Übung
DESCRIPTION:
DTSTAMP:20260422T110438
DTSTART:20261001T170000
SEQUENCE:0
TRANSP:OPAQUE
END:VEVENT
END:VCALENDAR