BEGIN:VCALENDAR
VERSION:2.0
PRODID:-//jEvents 2.0 for Joomla//EN
CALSCALE:GREGORIAN
METHOD:PUBLISH
BEGIN:VEVENT
UID:a70403c20c1f3f1048f6fee83bfcbeb4
CATEGORIES:Abt. Riedlingen
CREATED:20260111T191033
SUMMARY:Übung LZ3
DESCRIPTION:
DTSTAMP:20260420T152346
DTSTART:20260925T170000
SEQUENCE:0
TRANSP:OPAQUE
END:VEVENT
END:VCALENDAR