BEGIN:VCALENDAR
VERSION:2.0
PRODID:-//jEvents 2.0 for Joomla//EN
CALSCALE:GREGORIAN
METHOD:PUBLISH
BEGIN:VEVENT
UID:519c3ae7be92d8032c20be9655efff45
CATEGORIES:Abt. Riedlingen
CREATED:20260111T190958
SUMMARY:Übung
DESCRIPTION:
DTSTAMP:20260424T082031
DTSTART:20260903T170000
SEQUENCE:0
TRANSP:OPAQUE
END:VEVENT
END:VCALENDAR