BEGIN:VCALENDAR
VERSION:2.0
PRODID:-//jEvents 2.0 for Joomla//EN
CALSCALE:GREGORIAN
METHOD:PUBLISH
BEGIN:VEVENT
UID:7f6a879fd5cf820e5adc8df9e3696ead
CATEGORIES:Abt. Riedlingen
CREATED:20260111T190946
SUMMARY:Übung
DESCRIPTION:
DTSTAMP:20260422T123008
DTSTART:20260806T170000
SEQUENCE:0
TRANSP:OPAQUE
END:VEVENT
END:VCALENDAR