BEGIN:VCALENDAR
VERSION:2.0
PRODID:-//jEvents 2.0 for Joomla//EN
CALSCALE:GREGORIAN
METHOD:PUBLISH
BEGIN:VEVENT
UID:fb71d382c64cb6928443c5ef6bcc660c
CATEGORIES:Abt. Riedlingen
CREATED:20260111T190932
SUMMARY:Gaudiübung mit Abt. Holzen
DESCRIPTION:
DTSTAMP:20260422T144648
DTSTART;VALUE=DATE:20260730
DTEND;VALUE=DATE:20260731
SEQUENCE:0
TRANSP:OPAQUE
END:VEVENT
END:VCALENDAR